BEGIN:VCALENDAR
VERSION:2.0
PRODID:-//Pascack Historical Society - ECPv6.15.20//NONSGML v1.0//EN
CALSCALE:GREGORIAN
METHOD:PUBLISH
X-WR-CALNAME:Pascack Historical Society
X-ORIGINAL-URL:https://pascackhistoricalsociety.org
X-WR-CALDESC:Events for Pascack Historical Society
REFRESH-INTERVAL;VALUE=DURATION:PT1H
X-Robots-Tag:noindex
X-PUBLISHED-TTL:PT1H
BEGIN:VTIMEZONE
TZID:America/New_York
BEGIN:DAYLIGHT
TZOFFSETFROM:-0500
TZOFFSETTO:-0400
TZNAME:EDT
DTSTART:20240310T070000
END:DAYLIGHT
BEGIN:STANDARD
TZOFFSETFROM:-0400
TZOFFSETTO:-0500
TZNAME:EST
DTSTART:20241103T060000
END:STANDARD
BEGIN:DAYLIGHT
TZOFFSETFROM:-0500
TZOFFSETTO:-0400
TZNAME:EDT
DTSTART:20250309T070000
END:DAYLIGHT
BEGIN:STANDARD
TZOFFSETFROM:-0400
TZOFFSETTO:-0500
TZNAME:EST
DTSTART:20251102T060000
END:STANDARD
BEGIN:DAYLIGHT
TZOFFSETFROM:-0500
TZOFFSETTO:-0400
TZNAME:EDT
DTSTART:20260308T070000
END:DAYLIGHT
BEGIN:STANDARD
TZOFFSETFROM:-0400
TZOFFSETTO:-0500
TZNAME:EST
DTSTART:20261101T060000
END:STANDARD
BEGIN:DAYLIGHT
TZOFFSETFROM:-0500
TZOFFSETTO:-0400
TZNAME:EDT
DTSTART:20270314T070000
END:DAYLIGHT
BEGIN:STANDARD
TZOFFSETFROM:-0400
TZOFFSETTO:-0500
TZNAME:EST
DTSTART:20271107T060000
END:STANDARD
END:VTIMEZONE
BEGIN:VEVENT
DTSTART;TZID=America/New_York:20260426T140000
DTEND;TZID=America/New_York:20260426T160000
DTSTAMP:20260423T131227
CREATED:20250904T205153Z
LAST-MODIFIED:20260212T173232Z
UID:3108-1777212000-1777219200@pascackhistoricalsociety.org
SUMMARY:April Lecture: Jack Sherry as Ben Franklin
DESCRIPTION:Join us for a special presentation by Jack Sherry\, appearing as Benjamin Franklin! \nNo charge for PHS members. $5 at the door for non-members. \nChildren welcome when accompanied by an adult. \nComplimentary refreshments.
URL:https://pascackhistoricalsociety.org/event/jack-sherry-ben-franklin/
LOCATION:Pascack Historical Society\, 19 Ridge Avenue\, Park Ridge\, NJ\, 07656\, United States
CATEGORIES:Lecture
END:VEVENT
BEGIN:VEVENT
DTSTART;TZID=America/New_York:20260322T140000
DTEND;TZID=America/New_York:20260322T160000
DTSTAMP:20260423T131227
CREATED:20250904T205153Z
LAST-MODIFIED:20260301T005704Z
UID:3106-1774188000-1774195200@pascackhistoricalsociety.org
SUMMARY:March Lecture: Roots of Resistance\, with Tim Adriance
DESCRIPTION:Join us for a special presentation by Bergen County historian Tim Adriance: Roots of Resistance. Why some Jersey Dutch joined the Patriot cause in the Revolution. \n**This event is being hosted by the Pascack Historical Society at a special off-sidte location to provide additional seating. \nNo charge for PHS members. $5 at the door for non-members.\nSeating is first come\, first served\, and all are welcome. note that PHS volunteers will not provide refreshments at this program\, as it is being held at another facility.
URL:https://pascackhistoricalsociety.org/event/tim-adriance-rev-war-pascack-valley/
LOCATION:First Congregational Church\, 131 Pascack Road\, Park Ridge\, 07656\, United States
CATEGORIES:Lecture
ATTACH;FMTTYPE=image/webp:https://pascackhistoricalsociety.org/wp-content/uploads/2025/09/Jersey-Dutch-flyer-1.webp
END:VEVENT
BEGIN:VEVENT
DTSTART;TZID=America/New_York:20260315T100000
DTEND;TZID=America/New_York:20260315T160000
DTSTAMP:20260423T131227
CREATED:20260301T155226Z
LAST-MODIFIED:20260301T155226Z
UID:3395-1773568800-1773590400@pascackhistoricalsociety.org
SUMMARY:Spring Curiosity Sale
DESCRIPTION:TONS OF UNIQUE FINDS FOR LOVERS OF ALL THINGS ANTIQUE\, RETRO & VINTAGE \nCollectibles\, home decor\, china\, glassware\, crystal\, jewelry\, handbags\, lamps\, serving pieces\, pottery\, linens\, postcards\, typewriters\, Depression glass\, artwork\, figurines\, ephemera\, and much more. Treasures spanning two centuries. Special this time: A collection of American Brilliant Period glass. Sale photos will be posted on the Pascack Historical Society Facebook. \nSale takes place indoors and out\, rain or shine \nCASH and VENMO ACCEPTED
URL:https://pascackhistoricalsociety.org/event/spring-curiosity-sale2/
LOCATION:Pascack Historical Society\, 19 Ridge Avenue\, Park Ridge\, NJ\, 07656\, United States
CATEGORIES:Curio Sale
ATTACH;FMTTYPE=image/webp:https://pascackhistoricalsociety.org/wp-content/uploads/2026/03/curiositysale.webp
END:VEVENT
BEGIN:VEVENT
DTSTART;TZID=America/New_York:20260314T100000
DTEND;TZID=America/New_York:20260314T160000
DTSTAMP:20260423T131227
CREATED:20260301T155735Z
LAST-MODIFIED:20260301T155735Z
UID:3403-1773482400-1773504000@pascackhistoricalsociety.org
SUMMARY:Spring Curiosity Sale
DESCRIPTION:TONS OF UNIQUE FINDS FOR LOVERS OF ALL THINGS ANTIQUE\, RETRO & VINTAGE \nCollectibles\, home decor\, china\, glassware\, crystal\, jewelry\, handbags\, lamps\, serving pieces\, pottery\, linens\, postcards\, typewriters\, Depression glass\, artwork\, figurines\, ephemera\, and much more. Treasures spanning two centuries. Special this time: A collection of American Brilliant Period glass. Sale photos will be posted on the Pascack Historical Society Facebook. \nSale takes place indoors and out\, rain or shine \nCASH and VENMO ACCEPTED
URL:https://pascackhistoricalsociety.org/event/spring-curiosity-sale-2/
LOCATION:Pascack Historical Society\, 19 Ridge Avenue\, Park Ridge\, NJ\, 07656\, United States
CATEGORIES:Curio Sale
ATTACH;FMTTYPE=image/webp:https://pascackhistoricalsociety.org/wp-content/uploads/2026/03/curiositysale.webp
END:VEVENT
BEGIN:VEVENT
DTSTART;TZID=America/New_York:20260313T110000
DTEND;TZID=America/New_York:20260313T140000
DTSTAMP:20260423T131227
CREATED:20260301T155226Z
LAST-MODIFIED:20260301T155553Z
UID:3391-1773399600-1773410400@pascackhistoricalsociety.org
SUMMARY:Spring Curiosity Sale - Members Presale
DESCRIPTION:Presale is open to all who have paid their 2026 dues. \nTONS OF UNIQUE FINDS FOR LOVERS OF ALL THINGS ANTIQUE\, RETRO & VINTAGE \nCollectibles\, home decor\, china\, glassware\, crystal\, jewelry\, handbags\, lamps\, serving pieces\, pottery\, linens\, postcards\, typewriters\, Depression glass\, artwork\, figurines\, ephemera\, and much more. Treasures spanning two centuries. Special this time: A collection of American Brilliant Period glass. Sale photos will be posted on the Pascack Historical Society Facebook. \nSale takes place indoors and out\, rain or shine \nCASH and VENMO ACCEPTED
URL:https://pascackhistoricalsociety.org/event/spring-curio-sale-members/
LOCATION:Pascack Historical Society\, 19 Ridge Avenue\, Park Ridge\, NJ\, 07656\, United States
CATEGORIES:Curio Sale
ATTACH;FMTTYPE=image/webp:https://pascackhistoricalsociety.org/wp-content/uploads/2026/03/curiositysale.webp
END:VEVENT
BEGIN:VEVENT
DTSTART;TZID=America/New_York:20251109T140000
DTEND;TZID=America/New_York:20251109T160000
DTSTAMP:20260423T131227
CREATED:20250205T211538Z
LAST-MODIFIED:20250331T204902Z
UID:2894-1762696800-1762704000@pascackhistoricalsociety.org
SUMMARY:November Lecture: Native American Culture – the Lenape
DESCRIPTION:Join us for a special presentation about Native American Culture – the Lenape! \n  \nNo charge for PHS members. $5 at the door for non-members. \nChildren welcome when accompanied by an adult. \nComplimentary refreshments.
URL:https://pascackhistoricalsociety.org/event/november-lecture/
LOCATION:Pascack Historical Society\, 19 Ridge Avenue\, Park Ridge\, NJ\, 07656\, United States
CATEGORIES:Lecture
END:VEVENT
BEGIN:VEVENT
DTSTART;TZID=America/New_York:20251019T100000
DTEND;TZID=America/New_York:20251019T160000
DTSTAMP:20260423T131227
CREATED:20251006T203719Z
LAST-MODIFIED:20251006T215031Z
UID:2903-1760868000-1760889600@pascackhistoricalsociety.org
SUMMARY:Autumn Curio Sale
DESCRIPTION:TONS OF UNIQUE FINDS FOR LOVERS OF ALL THINGS ANTIQUE\, RETRO & VINTAGE \nCollectibles\, home decor\, china\, glassware\, crystal\, jewelry\, handbags and accessories\, HO model trains\, lamps\, serving pieces\, primitives\, quality and vintage Christmas\, pottery\, linens\, postcards\, artwork\, antique sheet music\, figurines\, cameras\, ephemera\, furniture\, and so much more. \nSale takes place indoors and out\, rain or shine \nCASH and VENMO ACCEPTED
URL:https://pascackhistoricalsociety.org/event/autumn-curio-sale-sunday/
CATEGORIES:Curio Sale
ATTACH;FMTTYPE=image/png:https://pascackhistoricalsociety.org/wp-content/uploads/2025/02/AutumCuriositySale2025.png
END:VEVENT
BEGIN:VEVENT
DTSTART;TZID=America/New_York:20251018T100000
DTEND;TZID=America/New_York:20251018T160000
DTSTAMP:20260423T131227
CREATED:20251006T203508Z
LAST-MODIFIED:20251006T215125Z
UID:2900-1760781600-1760803200@pascackhistoricalsociety.org
SUMMARY:Autumn Curio Sale
DESCRIPTION:TONS OF UNIQUE FINDS FOR LOVERS OF ALL THINGS ANTIQUE\, RETRO & VINTAGE \nCollectibles\, home decor\, china\, glassware\, crystal\, jewelry\, handbags and accessories\, HO model trains\, lamps\, serving pieces\, primitives\, quality and vintage Christmas\, pottery\, linens\, postcards\, artwork\, antique sheet music\, figurines\, cameras\, ephemera\, furniture\, and so much more. \nSale takes place indoors and out\, rain or shine \nCASH and VENMO ACCEPTED
URL:https://pascackhistoricalsociety.org/event/autumn-curio-sale-sat/
CATEGORIES:Curio Sale
ATTACH;FMTTYPE=image/png:https://pascackhistoricalsociety.org/wp-content/uploads/2025/02/AutumCuriositySale2025.png
END:VEVENT
BEGIN:VEVENT
DTSTART;TZID=America/New_York:20251017T110000
DTEND;TZID=America/New_York:20251017T140000
DTSTAMP:20260423T131227
CREATED:20251006T202631Z
LAST-MODIFIED:20251006T215158Z
UID:2897-1760698800-1760709600@pascackhistoricalsociety.org
SUMMARY:Autumn Curio Sale – Members Presale
DESCRIPTION:Special presale for PHS members only \nTONS OF UNIQUE FINDS FOR LOVERS OF ALL THINGS ANTIQUE\, RETRO & VINTAGE \nCollectibles\, home decor\, china\, glassware\, crystal\, jewelry\, handbags and accessories\, HO model trains\, lamps\, serving pieces\, primitives\, quality and vintage Christmas\, pottery\, linens\, postcards\, artwork\, antique sheet music\, figurines\, cameras\, ephemera\, furniture\, and so much more. \nSale takes place indoors and out\, rain or shine \nCASH and VENMO ACCEPTED
URL:https://pascackhistoricalsociety.org/event/autumn-curio-sale-members-presale/
CATEGORIES:Curio Sale
ATTACH;FMTTYPE=image/png:https://pascackhistoricalsociety.org/wp-content/uploads/2025/02/AutumCuriositySale2025.png
END:VEVENT
BEGIN:VEVENT
DTSTART;TZID=America/New_York:20250907T140000
DTEND;TZID=America/New_York:20250907T160000
DTSTAMP:20260423T131227
CREATED:20250205T211037Z
LAST-MODIFIED:20250904T192909Z
UID:2891-1757253600-1757260800@pascackhistoricalsociety.org
SUMMARY:September Lecture: Jersey Dutch Culture
DESCRIPTION:Join us for a special presentation about Jersey Dutch Culture! \nNo charge for PHS members. $5 at the door for non-members. \nChildren welcome when accompanied by an adult. \nComplimentary refreshments.
URL:https://pascackhistoricalsociety.org/event/september-lecture/
LOCATION:Pascack Historical Society\, 19 Ridge Avenue\, Park Ridge\, NJ\, 07656\, United States
CATEGORIES:Lecture
ATTACH;FMTTYPE=image/jpeg:https://pascackhistoricalsociety.org/wp-content/uploads/2025/02/dutchculture.jpg
END:VEVENT
BEGIN:VEVENT
DTSTART;TZID=America/New_York:20250720T140000
DTEND;TZID=America/New_York:20250720T160000
DTSTAMP:20260423T131227
CREATED:20250331T204456Z
LAST-MODIFIED:20250331T204456Z
UID:2985-1753020000-1753027200@pascackhistoricalsociety.org
SUMMARY:Book Talk: History Lover's Guide to Bergen County
DESCRIPTION:Join us for a special presentation about the history of Bergen County! \n  \nNo charge for PHS members. $5 at the door for non-members. \nChildren welcome when accompanied by an adult. \nComplimentary refreshments.
URL:https://pascackhistoricalsociety.org/event/book-talk-history-lovers-guide-to-bergen-county/
LOCATION:Pascack Historical Society\, 19 Ridge Avenue\, Park Ridge\, NJ\, 07656\, United States
CATEGORIES:Lecture
END:VEVENT
BEGIN:VEVENT
DTSTART;TZID=America/New_York:20250309T140000
DTEND;TZID=America/New_York:20250309T160000
DTSTAMP:20260423T131227
CREATED:20250205T211417Z
LAST-MODIFIED:20250213T024336Z
UID:2893-1741528800-1741536000@pascackhistoricalsociety.org
SUMMARY:March Lecture: The Art of Spinning & Textiles
DESCRIPTION:Join us for a special presentation by Celeste Sherry\, Spinner of wool – and more! \nDressed as a middle-class woman of 1775\, Celeste will speak on spinning and fiber/textile arts throughout history\, as far back as the Neolithic Era. She will give a spinning demonstration and provide a hands-on display of a variety of fibers (flax\, silk\, alpaca\, cotton\, etc.)\, naturally dyed yarns\, and 18th century textile tools & wool/linen garments. Attendees may try their hand at spinning on a drop spindle. A Q&A forum will follow the lecture. \nNo charge for PHS members. $5 at the door for non-members. \nChildren welcome when accompanied by an adult. \nComplimentary refreshments. \nFor more information visit historyspinning.com
URL:https://pascackhistoricalsociety.org/event/march-lecture/
LOCATION:Pascack Historical Society\, 19 Ridge Avenue\, Park Ridge\, NJ\, 07656\, United States
CATEGORIES:Lecture
ATTACH;FMTTYPE=image/png:https://pascackhistoricalsociety.org/wp-content/uploads/2025/02/Spinning_banner.png
END:VEVENT
END:VCALENDAR